BEGIN:VCALENDAR
VERSION:2.0
PRODID:-//Les Sentinelles de la Route - ECPv6.15.20//NONSGML v1.0//EN
CALSCALE:GREGORIAN
METHOD:PUBLISH
X-WR-CALNAME:Les Sentinelles de la Route
X-ORIGINAL-URL:https://lessentinelles.com
X-WR-CALDESC:Événements pour Les Sentinelles de la Route
REFRESH-INTERVAL;VALUE=DURATION:PT1H
X-Robots-Tag:noindex
X-PUBLISHED-TTL:PT1H
BEGIN:VTIMEZONE
TZID:America/Toronto
BEGIN:DAYLIGHT
TZOFFSETFROM:-0500
TZOFFSETTO:-0400
TZNAME:EDT
DTSTART:20250309T070000
END:DAYLIGHT
BEGIN:STANDARD
TZOFFSETFROM:-0400
TZOFFSETTO:-0500
TZNAME:EST
DTSTART:20251102T060000
END:STANDARD
BEGIN:DAYLIGHT
TZOFFSETFROM:-0500
TZOFFSETTO:-0400
TZNAME:EDT
DTSTART:20260308T070000
END:DAYLIGHT
BEGIN:STANDARD
TZOFFSETFROM:-0400
TZOFFSETTO:-0500
TZNAME:EST
DTSTART:20261101T060000
END:STANDARD
BEGIN:DAYLIGHT
TZOFFSETFROM:-0500
TZOFFSETTO:-0400
TZNAME:EDT
DTSTART:20270314T070000
END:DAYLIGHT
BEGIN:STANDARD
TZOFFSETFROM:-0400
TZOFFSETTO:-0500
TZNAME:EST
DTSTART:20271107T060000
END:STANDARD
END:VTIMEZONE
BEGIN:VEVENT
DTSTART;TZID=America/Toronto:20260425T090000
DTEND;TZID=America/Toronto:20260425T150000
DTSTAMP:20260423T201610
CREATED:20260410T111536Z
LAST-MODIFIED:20260410T155224Z
UID:10000174-1777107600-1777129200@lessentinelles.com
SUMMARY:Formation des encadreurs
DESCRIPTION:Bonjour chers membres du club cycliste Les Sentinelles de la Route\, \n\n\n\nLa formation des encadreurs aura lieu samedi le 25 avril 2026 de 9h00 à 12h00\, pour la partie théorique et de 13h à 15h\, pour un cours de mécanique 101. \n\n\n\nAdresseCentre communautaire Michel-Labadie3705 Av. Chauveau\, Québec\, QC G2C 1A3. Salle SS131. \n\n\n\nCette formation est obligatoire pour les nouveaux membres. Il est aussi fortement suggéré aux plus anciens de venir à cette formation pour un rafraichissement de nos techniques d’encadrement et de la sécurité routière. \n\n\n\nPour vous inscrire (obligatoire)\, allez directement sur le calendrier du site internet des Sentinelles de la Route. \n\n\n\nMerci de votre collaboration et au plaisir de vous voir nombreux.
URL:https://lessentinelles.com/evenement/formation-des-encadreurs/
LOCATION:Centre communautaire Michel-Labadie\, 3705 Av. Chauveau\, Québec\, Québec\, G2C 1A3\, Canada
CATEGORIES:Événements pour membres
END:VEVENT
END:VCALENDAR